BEGIN:VCALENDAR
VERSION:2.0
PRODID:spatie/icalendar-generator
DESCRIPTION:Veranstaltungen von Commuio
X-WR-CALDESC:Veranstaltungen von Commuio
REFRESH-INTERVAL;VALUE=DURATION:PT1440M
X-PUBLISHED-TTL:PT1440M
BEGIN:VTIMEZONE
TZID:Europe/Berlin
BEGIN:STANDARD
DTSTART:20231029T030000Z
TZOFFSETFROM:+0200
TZOFFSETTO:+0100
END:STANDARD
BEGIN:DAYLIGHT
DTSTART:20240331T020000Z
TZOFFSETFROM:+0100
TZOFFSETTO:+0200
END:DAYLIGHT
BEGIN:STANDARD
DTSTART:20241027T030000Z
TZOFFSETFROM:+0200
TZOFFSETTO:+0100
END:STANDARD
END:VTIMEZONE
BEGIN:VTIMEZONE
TZID:UTC
BEGIN:STANDARD
DTSTART:20250725T083224Z
TZOFFSETFROM:+0000
TZOFFSETTO:+0000
END:STANDARD
END:VTIMEZONE
BEGIN:VEVENT
UID:1358-1191
DTSTAMP:20260421T083224Z
SUMMARY:Patienten-kommunikation: (Frauenheilkunde) Schwangere im Notfall be
 ruhigen (B1/B2)
LOCATION:
ORGANIZER;CN=web:MAILTO:webmaster@commuio.com
DTSTART;TZID=Europe/Berlin:20240521T090000
DTEND;TZID=Europe/Berlin:20240521T100000
X-ALT-DESC;FMTTYPE=TEXT/HTML:Kurs: (Frauenheilkunde) Schwangere im Notfall 
 beruhigen Freies Sprechen zum Thema Beruhigen An diesem Online-Präsenztra
 ining teilnehmen: ZUM VORRAUM
CATEGORIES:Patientenkommunikation
URL;VALUE=URI:https://commuio.com/mc-events/patienten-kommunikation-frauenh
 eilkunde-schwangere-im-notfall-beruhigen-b1-b2-7/
METHOD:PUBLISH
END:VEVENT
END:VCALENDAR